BEGIN:VCALENDAR
VERSION:2.0
PRODID:-//Mason Community Arts Academy - ECPv6.15.20//NONSGML v1.0//EN
CALSCALE:GREGORIAN
METHOD:PUBLISH
X-WR-CALNAME:Mason Community Arts Academy
X-ORIGINAL-URL:https://masonacademy.gmu.edu
X-WR-CALDESC:Events for Mason Community Arts Academy
REFRESH-INTERVAL;VALUE=DURATION:PT1H
X-Robots-Tag:noindex
X-PUBLISHED-TTL:PT1H
BEGIN:VTIMEZONE
TZID:America/New_York
BEGIN:DAYLIGHT
TZOFFSETFROM:-0500
TZOFFSETTO:-0400
TZNAME:EDT
DTSTART:20240310T070000
END:DAYLIGHT
BEGIN:STANDARD
TZOFFSETFROM:-0400
TZOFFSETTO:-0500
TZNAME:EST
DTSTART:20241103T060000
END:STANDARD
BEGIN:DAYLIGHT
TZOFFSETFROM:-0500
TZOFFSETTO:-0400
TZNAME:EDT
DTSTART:20250309T070000
END:DAYLIGHT
BEGIN:STANDARD
TZOFFSETFROM:-0400
TZOFFSETTO:-0500
TZNAME:EST
DTSTART:20251102T060000
END:STANDARD
BEGIN:DAYLIGHT
TZOFFSETFROM:-0500
TZOFFSETTO:-0400
TZNAME:EDT
DTSTART:20260308T070000
END:DAYLIGHT
BEGIN:STANDARD
TZOFFSETFROM:-0400
TZOFFSETTO:-0500
TZNAME:EST
DTSTART:20261101T060000
END:STANDARD
END:VTIMEZONE
BEGIN:VEVENT
DTSTART;VALUE=DATE:20250701
DTEND;VALUE=DATE:20250702
DTSTAMP:20260424T033223
CREATED:20250217T185051Z
LAST-MODIFIED:20250217T185051Z
UID:27017-1751328000-1751414399@masonacademy.gmu.edu
SUMMARY:Mason String Camp: Registration Deadline
DESCRIPTION:The Mason String Camp is a week-long intensive program for middle and high school violin\, viola\, cello\, and bass players. Students will learn\, rehearse\, and perform an orchestra program over the course of the week. In addition to orchestra\, students will participate in sectionals\, masterclasses with top-notch music educators from the Northern Virginia area\, and daily elective classes carefully curated to enhance their creativity\, musicianship\, and performance skills. \nAges: 10–18 (Rising grade 6 through grade 12 graduates) \nDates: July 28–August 1\, 2025\n9 a.m.– 4:30 p.m. \nTuition: $705 \nLocation: George Mason Fairfax Campus\, de Laski Performing Arts Building \nRegistration Deadline: July 1 \n 
URL:https://masonacademy.gmu.edu/event/mason-string-camp-registration-deadline/
LOCATION:VA
CATEGORIES:Group Class
ATTACH;FMTTYPE=image/png:https://masonacademy.gmu.edu/wp-content/uploads/2025-String-Camp-faculty-social.png
END:VEVENT
END:VCALENDAR