BEGIN:VCALENDAR
VERSION:2.0
PRODID:-//Mason Community Arts Academy - ECPv6.15.20//NONSGML v1.0//EN
CALSCALE:GREGORIAN
METHOD:PUBLISH
X-WR-CALNAME:Mason Community Arts Academy
X-ORIGINAL-URL:https://masonacademy.gmu.edu
X-WR-CALDESC:Events for Mason Community Arts Academy
REFRESH-INTERVAL;VALUE=DURATION:PT1H
X-Robots-Tag:noindex
X-PUBLISHED-TTL:PT1H
BEGIN:VTIMEZONE
TZID:America/New_York
BEGIN:DAYLIGHT
TZOFFSETFROM:-0500
TZOFFSETTO:-0400
TZNAME:EDT
DTSTART:20240310T070000
END:DAYLIGHT
BEGIN:STANDARD
TZOFFSETFROM:-0400
TZOFFSETTO:-0500
TZNAME:EST
DTSTART:20241103T060000
END:STANDARD
BEGIN:DAYLIGHT
TZOFFSETFROM:-0500
TZOFFSETTO:-0400
TZNAME:EDT
DTSTART:20250309T070000
END:DAYLIGHT
BEGIN:STANDARD
TZOFFSETFROM:-0400
TZOFFSETTO:-0500
TZNAME:EST
DTSTART:20251102T060000
END:STANDARD
BEGIN:DAYLIGHT
TZOFFSETFROM:-0500
TZOFFSETTO:-0400
TZNAME:EDT
DTSTART:20260308T070000
END:DAYLIGHT
BEGIN:STANDARD
TZOFFSETFROM:-0400
TZOFFSETTO:-0500
TZNAME:EST
DTSTART:20261101T060000
END:STANDARD
END:VTIMEZONE
BEGIN:VEVENT
DTSTART;TZID=America/New_York:20250711T141500
DTEND;TZID=America/New_York:20250711T151500
DTSTAMP:20260425T145356
CREATED:20250527T160358Z
LAST-MODIFIED:20250527T160516Z
UID:27566-1752243300-1752246900@masonacademy.gmu.edu
SUMMARY:Songwriting Workshop Final Presentation
DESCRIPTION:Summer Songwriting Workshop students will perform the pieces they have been writing and developing over the past week. \nFree and open to the public.
URL:https://masonacademy.gmu.edu/event/songwriting-workshop-final-presentation/
LOCATION:Center for the Arts: Dr. Linda Apple Monson Grand Tier\, 4373 Mason Pond Dr.\, Fairfax\, VA\, 22030
CATEGORIES:Community Event,Group Class
ATTACH;FMTTYPE=image/jpeg:https://masonacademy.gmu.edu/wp-content/uploads/DSC_0952-scaled.jpg
END:VEVENT
END:VCALENDAR